BEGIN:VCALENDAR
VERSION:2.0
PRODID:-//ChamberMaster//Event Calendar 2.0//EN
METHOD:PUBLISH
X-PUBLISHED-TTL:P3D
REFRESH-INTERVAL:P3D
CALSCALE:GREGORIAN
BEGIN:VEVENT
DTSTART:20260325T123000Z
DTEND:20260325T160000Z
X-MICROSOFT-CDO-ALLDAYEVENT:FALSE
SUMMARY:RETHINKING EMPLOYER HEALTH PLANS: HOW ICHRA & HORIZON EMPLOYER CHOICE REDUCE COSTS 2026
DESCRIPTION:Join Horizon on March 25 to hear from leading benefits experts and Horizon Leadership\n\nDesigned with small businesses in mind - Learn how our new offering\, can deliver\n\ngreater flexibility and cost savings for you and your employees.\n\n\n	Become a more informed\, confident buyer of health insurance for your business.\n	Evaluate whether a better approach exists - including individual coverage health reimbursement arrangements (ICHRA) based strategies to enhance coverage and manage costs.\n	Get actionable insights from industry experts on emerging market trends and what employers should prepare for - plus a live Q&A to get your questions answered.\n\n\nWHO SHOULD ATTEND:\nSmall employers\, HR leaders\, benefits administrators\, and healthcare decision-makers\n\n\n\n \n\n \n\n\nRegister Here:https://www.eventbrite.com/e/rethinking-employer-health-plans-tickets-1981867127930?aff=oddtdtcreator \n\n\n\nSpace is limited\, register now
X-ALT-DESC;FMTTYPE=text/html:<div style="text-align: center\;">Join Horizon on March 25 to hear from leading benefits experts and Horizon Leadership<br />\nDesigned with small businesses in mind - Learn how our new offering\, can deliver<br />\ngreater flexibility and cost savings for you and your employees.</div>\n\n<ul>\n	<li>Become a more informed\, confident buyer of health insurance for your business.</li>\n	<li>Evaluate whether a better approach exists - including individual coverage health reimbursement arrangements (ICHRA) based strategies to enhance coverage and manage costs.</li>\n	<li>Get actionable insights from industry experts on emerging market trends and what employers should prepare for - plus a live Q&amp\;A to get your questions answered.</li>\n</ul>\n\n<div style="text-align: center\;">WHO SHOULD ATTEND:</div>\nSmall employers\, HR leaders\, benefits administrators\, and healthcare decision-makers\n\n<div style="text-align: center\;"><br />\n&nbsp\;</div>\n\n<div style="text-align: center\;">&nbsp\;</div>\n<br />\nRegister Here:https://www.eventbrite.com/e/rethinking-employer-health-plans-tickets-1981867127930?aff=oddtdtcreator&nbsp\;<br />\n<br />\nSpace is limited\, register now
LOCATION:The Heldrich 10 Livingston Ave\, New Brunswick\, NJ Complimentary parking included for your convenience
UID:e.2391.6016
SEQUENCE:3
DTSTAMP:20260421T084241Z
URL:https://business.acchamber.com/events/details/rethinking-employer-health-plans-how-ichra-horizon-employer-choice-reduce-costs-2026-6016
END:VEVENT

END:VCALENDAR
