BEGIN:VCALENDAR
VERSION:2.0
PRODID:-//ChamberMaster//Event Calendar 2.0//EN
METHOD:PUBLISH
X-PUBLISHED-TTL:P3D
REFRESH-INTERVAL:P3D
CALSCALE:GREGORIAN
BEGIN:VEVENT
DTSTART;VALUE=DATE:20260501
DTEND;VALUE=DATE:20260502
TRANSP:TRANSPARENT
X-MICROSOFT-CDO-ALLDAYEVENT:TRUE
SUMMARY:Mental Health Association in Atlantic County Kick-Off of "United in Green" month
DESCRIPTION:Green-lit buildings\, green car magnets\, green awareness pins/bracelets\, social media posting (green\, of course) and green fliers with info on mental health screening --- all of these are all part of the "United In Green" countywide campaign organized by The Mental Health Association in Atlantic County.\n\n"The idea is to use the color green and messaging about wellness throughout the county to encourage people to prioritize mental health and normalize asking for help\," said the agency's Executive Director\, Vicki Phillips.\n\nFor the third year in a row\, the Mental Health Association in Atlantic County is partnering with businesses\, municipalities\, law enforcement\, libraries\, schools\, organizations\, and churches to raise awareness about mental health during May\, which is Mental Health Awareness Month.\n\n\n\nIf you would like to be a part of "United In Green\," please reach out to Karen Williams at kwilliams@mhanj.org or 609-652-3800 ext. 0311. Karen will arrange for you to receive what you need to be a part of this worthwhile initiative.\n\n\n\nGROUP PHOTO - \n\nMHA Atlantic staff and interns are pictured wearing green pins for Mental Health Awareness Month.  In 2025\, about 3\,500 green pins were distributed to dozens of businesses\, schools\, agencies\, groups\, banks\, restaurants\, libraries\, and police departments in Atlantic County.
X-ALT-DESC;FMTTYPE=text/html:<div style="margin-top: 1em\; margin-bottom: 1em\; font-family: Aptos\, Aptos_EmbeddedFont\, Aptos_MSFontService\, Calibri\, Helvetica\, sans-serif\; font-size: 12pt\; color: rgb(0\, 0\, 0)\;"><b>Green-lit buildings\, green car magnets\, green awareness pins/bracelets\, social media posting (green\, of course) and green fliers with info on mental health screening --- all of these are all part of the &ldquo\;United In Green&rdquo\; countywide campaign organized by The Mental Health Association in Atlantic County.</b></div>\n\n<div style="margin-top: 1em\; margin-bottom: 1em\; font-family: Aptos\, Aptos_EmbeddedFont\, Aptos_MSFontService\, Calibri\, Helvetica\, sans-serif\; font-size: 12pt\; color: rgb(0\, 0\, 0)\;"><b>&ldquo\;The idea is to use the color green and messaging about wellness throughout the county to encourage people to prioritize mental health and normalize asking for help\,&rdquo\; said the agency&#39\;s Executive Director\, Vicki Phillips.</b></div>\n\n<div style="margin-top: 1em\; margin-bottom: 1em\; font-family: Aptos\, Aptos_EmbeddedFont\, Aptos_MSFontService\, Calibri\, Helvetica\, sans-serif\; font-size: 12pt\; color: rgb(0\, 0\, 0)\;"><b>For the third year in a row\, the Mental Health Association in Atlantic County is partnering with businesses\, municipalities\, law enforcement\, libraries\, schools\, organizations\, and churches to raise awareness about mental health during May\, which is Mental Health Awareness Month.</b><br />\n<br />\n<b style="color: rgb(0\, 0\, 0)\; font-family: Aptos\, Aptos_EmbeddedFont\, Aptos_MSFontService\, Calibri\, Helvetica\, sans-serif\; font-size: 16px\;">If you would like to be a part of &ldquo\;United In Green\,&rdquo\; please reach out to Karen Williams at&nbsp\;<a href="mailto:kwilliams@mhanj.org" style="color: rgb(17\, 85\, 204)\;" target="_blank">kwilliams@mhanj.org</a>&nbsp\;or 609-652-3800 ext. 0311. Karen will arrange for you to receive what you need to be a part of this worthwhile initiative.<br />\n<br />\nGROUP PHOTO -&nbsp\;</b><br />\n<span style="font-family: Aptos\, Aptos_EmbeddedFont\, Aptos_MSFontService\, Calibri\, Helvetica\, sans-serif\; font-size: 16px\; color: rgb(0\, 0\, 0)\;">MHA Atlantic staff and interns are pictured wearing green pins for Mental Health Awareness Month.&nbsp\; In 2025\, about&nbsp\;</span><span style="font-family: Aptos\, Aptos_EmbeddedFont\, Aptos_MSFontService\, Calibri\, Helvetica\, sans-serif\; font-size: 16px\; color: black\;">3\,500 green&nbsp\;pins were distributed to dozens of businesses\, schools\, agencies\, groups\, banks\, restaurants\, libraries\, and police departments in Atlantic County.&nbsp\;</span><br />\n<br />\n&nbsp\;</div>\n
LOCATION:
UID:e.2391.6041
SEQUENCE:3
DTSTAMP:20260420T230022Z
URL:https://business.acchamber.com/events/details/mental-health-association-in-atlantic-county-kick-off-of-united-in-green-month-6041
END:VEVENT

END:VCALENDAR
