BEGIN:VCALENDAR
VERSION:2.0
PRODID:-//ChamberMaster//Event Calendar 2.0//EN
METHOD:PUBLISH
X-PUBLISHED-TTL:P3D
REFRESH-INTERVAL:P3D
CALSCALE:GREGORIAN
BEGIN:VEVENT
DTSTART:20260509T140000Z
DTEND:20260509T180000Z
X-MICROSOFT-CDO-ALLDAYEVENT:FALSE
SUMMARY:DonutNV at Earth Day - Oakfest
DESCRIPTION:DonutNV Food Truck will be at Earth Day - Oakfest brought to you by the Hamilton SustainabiliTEAM
X-ALT-DESC;FMTTYPE=text/html:DonutNV Food Truck will be at Earth Day - Oakfest brought to you by the Hamilton SustainabiliTEAM&nbsp\;
LOCATION:Oakcrest High School\, Mays Landing
UID:e.2391.6043
SEQUENCE:3
DTSTAMP:20260420T225022Z
URL:https://business.acchamber.com/events/details/donutnv-at-earth-day-oakfest-6043
END:VEVENT

END:VCALENDAR
