BEGIN:VCALENDAR
VERSION:2.0
PRODID:-//ChamberMaster//Event Calendar 2.0//EN
METHOD:PUBLISH
X-PUBLISHED-TTL:P3D
REFRESH-INTERVAL:P3D
CALSCALE:GREGORIAN
BEGIN:VEVENT
DTSTART:20260502T160000Z
DTEND:20260502T200000Z
X-MICROSOFT-CDO-ALLDAYEVENT:FALSE
SUMMARY:Cherry Blossom Festival 2026
DESCRIPTION:Celebrate the arrival of spring with DonutNV at the 4th annual Cherry Blossom Festival.  There will be kids games and activities\, live music\, wine and beer\, arts and crafts\, a dog contest\, and a host of other food trucks and environmental exhibitors.
X-ALT-DESC;FMTTYPE=text/html:<span style="color:rgb(40\, 40\, 40)\; font-family:abeezee\,sans-serif\; font-size:16px">Celebrate the arrival of spring with DonutNV at the 4th annual Cherry Blossom Festival.&nbsp\;&nbsp\;</span><span style="color:rgb(40\, 40\, 40)\; font-family:abeezee\,sans-serif\; font-size:16px">There will be kids games and activities\, live music</span><span style="color:rgb(40\, 40\, 40)\; font-family:abeezee\,sans-serif\; font-size:16px">\, wine and beer\, arts and crafts\, a dog contest\, and a host of other food trucks and environmental exhibitors.</span>
LOCATION:Margate\, NJ - Ventnor Ave. between Sumner and Union
UID:e.2391.6042
SEQUENCE:3
DTSTAMP:20260420T230356Z
URL:https://business.acchamber.com/events/details/cherry-blossom-festival-2026-6042
END:VEVENT

END:VCALENDAR
