BEGIN:VCALENDAR
VERSION:2.0
PRODID:-//ChamberMaster//Event Calendar 2.0//EN
METHOD:PUBLISH
X-PUBLISHED-TTL:P3D
REFRESH-INTERVAL:P3D
CALSCALE:GREGORIAN
BEGIN:VEVENT
DTSTART:20251202T223000Z
DTEND:20251203T000000Z
X-MICROSOFT-CDO-ALLDAYEVENT:FALSE
SUMMARY:2025 Business Excellence Awards
DESCRIPTION:Join us for an unforgettable evening of celebration\, recognition\, and networking at the Greater Atlantic City Chamber Business Excellence Awards! This prestigious event honors outstanding businesses\, individuals\, and the rising stars of our community.\n\n\n\nDate: December 2\, 2025\n\nTime: 6 PM to 8:00 PM\n\nLocation: Linwood Country Club\, 500 Shore Road\, Linwood\, NJ  08221\n\n\n\nEvent Highlights:\n\n\n\nBusiness Excellence Awards: We will be recognizing the trailblazers and game-changers who have made remarkable contributions to our community's economic growth and prosperity.  The awards are as follows:\n\n\n	The Redenia Gilliam-Mosee Business Leader of the Year Award\n	John G. FitzPatrick Community Leader of the Year\n	Economic Impact\n	Tourism Excellence\n	Small Business Excellence\n	Outstanding Young Professional \n	Chamber Volunteer of the Year\n\n\n20 Under 40 Awards: A shining spotlight on the young\, dynamic leaders under the age of 40 who are shaping the future of our region.\n\n\n\nSponsorship Opportunities:  Become a part of this prestigious event by becoming a sponsor! Showcase your commitment to excellence and gain valuable exposure to a wide audience. Various sponsorship packages are available to suit your business needs. Contact us today to explore sponsorship opportunities!\n\n\n\nDon't miss this exciting evening to celebrate business excellence\, connect with influential professionals\, and support the next generation of leaders in our community. Reserve your spot today and mark your calendar for an unforgettable evening of achievement and inspiration.  \n\n\n\nTickets are $115 per person for Greater Atlantic City Chamber members and $165 for non-members.\n\n\n\nWe can't wait to see you there!\n\n \n\n\nFOOD DRIVE - As we celebrate business excellence\, we're also coming together to support local families facing food insecurity. Due to recent delays in federal SNAP benefits\, many households across Atlantic County are experiencing significant food shortages this month. \n\n \n\nOn the evening of the Business Excellence Awards\, we will be collecting non-perishable food items and grocery gift cards to benefit local pantry partners\, including\n\n \n\n\n	JFS Mobile Pantry\n	Sister Jean's Kitchen\n	Boys & Girls Club of Atlantic City\n	Hammonton Family Success Center\n	AVANZAR\n\n\n  Most requested items: Grocery Gift Cards\, Spaghetti\, Spaghetti Sauce\, Canned Proteins\, Peanut Butter\, Jelly\, Bread\, Canned Veggies (w/flip tops)\, Ramen\, Pancake Mix\n\n \n\nThank you\, C.R.O.P.S.\, for helping the Chamber organize this food drive.
X-ALT-DESC;FMTTYPE=text/html:<p dir="ltr" style="line-height:1.38\;margin-top:0pt\;margin-bottom:0pt\;">Join us for an unforgettable evening of celebration\, recognition\, and networking at the Greater Atlantic City Chamber Business Excellence Awards! This prestigious event honors outstanding businesses\, individuals\, and the rising stars of our community.<br />\n<br />\nDate: December 2\, 2025<br />\nTime: 6 PM to 8:00 PM<br />\nLocation: Linwood Country Club\, 500 Shore Road\, Linwood\, NJ&nbsp\; 08221<br />\n<br />\n<span style="font-size:16px\;"><u><strong>Event Highlights:</strong></u></span><br />\n<br />\n<strong>Business Excellence Awards:</strong>&nbsp\;We will be recognizing the trailblazers and game-changers who have made remarkable contributions to our community&#39\;s economic growth and prosperity.&nbsp\; The awards are as follows:</p>\n\n<ul dir="ltr">\n	<li style="line-height: 1.38\; margin-top: 0pt\; margin-bottom: 0pt\;"><strong>The Redenia Gilliam-Mosee Business Leader of the Year Award</strong></li>\n	<li style="line-height: 1.38\; margin-top: 0pt\; margin-bottom: 0pt\;"><strong>John G. FitzPatrick Community Leader of the Year</strong></li>\n	<li style="line-height: 1.38\; margin-top: 0pt\; margin-bottom: 0pt\;"><strong>Economic Impact</strong></li>\n	<li style="line-height: 1.38\; margin-top: 0pt\; margin-bottom: 0pt\;"><strong>Tourism Excellence</strong></li>\n	<li style="line-height: 1.38\; margin-top: 0pt\; margin-bottom: 0pt\;"><strong>Small Business Excellence</strong></li>\n	<li style="line-height: 1.38\; margin-top: 0pt\; margin-bottom: 0pt\;"><strong>Outstanding Young Professional</strong>&nbsp\;</li>\n	<li style="line-height: 1.38\; margin-top: 0pt\; margin-bottom: 0pt\;"><strong>Chamber Volunteer of the Year</strong></li>\n</ul>\n\n<p dir="ltr" style="line-height: 1.38\; margin-top: 0pt\; margin-bottom: 0pt\;"><strong>20 Under 40 Awards</strong>: A shining spotlight on the young\, dynamic leaders under the age of 40 who are shaping the future of our region.</p>\n\n<p dir="ltr" style="line-height:1.38\;margin-top:0pt\;margin-bottom:0pt\;"><br />\n<strong>Sponsorship Opportunities:&nbsp\;&nbsp\;</strong>Become a part of this prestigious event by becoming a sponsor! Showcase your commitment to excellence and gain valuable exposure to a wide audience. Various sponsorship packages are available to suit your business needs. <u><a href="mailto:dwalker@acchamber.com"><strong>Contact us today</strong></a></u> to explore sponsorship opportunities!<br />\n<br />\nDon&#39\;t miss this exciting evening to celebrate business excellence\, connect with influential professionals\, and support the next generation of leaders in our community. Reserve your spot today and mark your calendar for an unforgettable evening of achievement and inspiration.&nbsp\;&nbsp\;<br />\n<br />\nTickets are $115 per person for Greater Atlantic City Chamber members and $165 for non-members.<br />\n<br />\nWe can&#39\;t wait to see you there!<br />\n&nbsp\;</p>\n\n<hr />\n<p century="" font-size:="" style="margin: 0px\; padding: 0px\; font-family: " white-space-collapse:=""><span style="font-size: 15px\; font-family: Arial\, Verdana\, Helvetica\, sans-serif\; font-weight: bold\;">FOOD DRIVE</span><span style="font-size: 15px\; font-family: Arial\, Verdana\, Helvetica\, sans-serif\;"> - As we celebrate business excellence\, we&#39\;re also coming together to support local families facing food insecurity. Due to recent delays in federal SNAP benefits\, many households across Atlantic County are experiencing significant food shortages this month.<quill-soft-break style="display: inline\;">&#65279\;<br />\n&#65279\;</quill-soft-break></span></p>\n\n<p century="" font-size:="" style="margin: 0px\; padding: 0px\; font-family: " white-space-collapse:=""><span style="font-size: 15px\; font-family: Arial\, Verdana\, Helvetica\, sans-serif\; font-weight: bold\;">On the evening of the Business Excellence Awards\, we will be collecting non-perishable food items and grocery gift cards to benefit local pantry partners\, including</span></p>\n\n<p century="" font-size:="" style="margin: 0px\; padding: 0px\; font-family: " white-space-collapse:="">&nbsp\;</p>\n\n<ul century="" font-size:="" style="margin: 0px 0px 0px 40px\; padding-right: 0px\; padding-left: 0px\; font-family: " white-space-collapse:="">\n	<li style="padding: 0px\; margin: 0px\; font-size: 15px\;"><span style="font-family: Arial\, Verdana\, Helvetica\, sans-serif\;">JFS Mobile Pantry</span></li>\n	<li style="padding: 0px\; margin: 0px\; font-size: 15px\;"><span style="font-family: Arial\, Verdana\, Helvetica\, sans-serif\;">Sister Jean&#39\;s Kitchen</span></li>\n	<li style="padding: 0px\; margin: 0px\; font-size: 15px\;"><span style="font-family: Arial\, Verdana\, Helvetica\, sans-serif\;">Boys &amp\; Girls Club of Atlantic City</span></li>\n	<li style="padding: 0px\; margin: 0px\; font-size: 15px\;"><span style="font-family: Arial\, Verdana\, Helvetica\, sans-serif\;">Hammonton Family Success Center</span></li>\n	<li style="padding: 0px\; margin: 0px\; font-size: 15px\;"><span style="font-family: Arial\, Verdana\, Helvetica\, sans-serif\;">AVANZAR</span></li>\n</ul>\n\n<p century="" font-size:="" style="margin: 0px\; padding: 0px\; font-family: " white-space-collapse:=""><span style="font-size: 15px\; font-weight: bold\; font-family: Arial\, Verdana\, Helvetica\, sans-serif\;"><quill-soft-break style="display: inline\;">&#65279\;&#65279\;</quill-soft-break>Most requested items: </span><span style="font-size: 15px\; font-family: Arial\, Verdana\, Helvetica\, sans-serif\;">Grocery Gift Cards\, Spaghetti\, Spaghetti Sauce\, Canned Proteins\, Peanut Butter\, Jelly\, Bread\, Canned Veggies (w/flip tops)\, Ramen\, Pancake Mix</span></p>\n\n<p century="" font-size:="" style="margin: 0px\; padding: 0px\; font-family: " white-space-collapse:="">&nbsp\;</p>\n\n<p century="" font-size:="" style="margin: 0px\; padding: 0px\; font-family: " text-align:="" white-space-collapse:=""><span style="font-size: 15px\; color: rgb(3\, 71\, 120)\; font-weight: bold\; font-family: Arial\, Verdana\, Helvetica\, sans-serif\;">Thank you\, C.R.O.P.S.\, for helping the Chamber organize this food drive.</span></p>\n
LOCATION:Linwood Country Club 500 Shore Road Linwood\, NJ 08221
UID:e.2391.5537
SEQUENCE:3
DTSTAMP:20260423T184648Z
URL:https://business.acchamber.com/events/details/2025-business-excellence-awards-5537
END:VEVENT

END:VCALENDAR
